BEGIN:VCALENDAR
VERSION:2.0
PRODID:-//Women&#039;s MTB Network - ECPv6.15.20//NONSGML v1.0//EN
CALSCALE:GREGORIAN
METHOD:PUBLISH
X-WR-CALNAME:Women&#039;s MTB Network
X-ORIGINAL-URL:https://womensmtbnetwork.com
X-WR-CALDESC:Events for Women&#039;s MTB Network
REFRESH-INTERVAL;VALUE=DURATION:PT1H
X-Robots-Tag:noindex
X-PUBLISHED-TTL:PT1H
BEGIN:VTIMEZONE
TZID:America/Los_Angeles
BEGIN:DAYLIGHT
TZOFFSETFROM:-0800
TZOFFSETTO:-0700
TZNAME:PDT
DTSTART:20230312T100000
END:DAYLIGHT
BEGIN:STANDARD
TZOFFSETFROM:-0700
TZOFFSETTO:-0800
TZNAME:PST
DTSTART:20231105T090000
END:STANDARD
BEGIN:DAYLIGHT
TZOFFSETFROM:-0800
TZOFFSETTO:-0700
TZNAME:PDT
DTSTART:20240310T100000
END:DAYLIGHT
BEGIN:STANDARD
TZOFFSETFROM:-0700
TZOFFSETTO:-0800
TZNAME:PST
DTSTART:20241103T090000
END:STANDARD
BEGIN:DAYLIGHT
TZOFFSETFROM:-0800
TZOFFSETTO:-0700
TZNAME:PDT
DTSTART:20250309T100000
END:DAYLIGHT
BEGIN:STANDARD
TZOFFSETFROM:-0700
TZOFFSETTO:-0800
TZNAME:PST
DTSTART:20251102T090000
END:STANDARD
END:VTIMEZONE
BEGIN:VEVENT
DTSTART;VALUE=DATE:20241109
DTEND;VALUE=DATE:20241110
DTSTAMP:20260423T130521
CREATED:20241002T123406Z
LAST-MODIFIED:20241002T123406Z
UID:15946-1731110400-1731196799@womensmtbnetwork.com
SUMMARY:OC MTB Limestone XC Race
DESCRIPTION:OC MTB is hosting its final race of the year on November 9th! \nLocation:\nWe will be racing in Limestone Canyon Wilderness Park. \nDate: \nSaturday\, November 9th \, 2024 \nStart/Finish Location:\nOver the Hump venue \nPost Event: \nFood Trucks will be onsite serving coffee\, breakfast\, lunch before\, during and after the race.  Over the Hump vendors as well as our vendors onsite.  Our vendors:  Souljah CBD products\, Athletic Brewing Non- Alcoholic Beer\, Vital 4U liquid energy\, Recover 180 electrolyte\, Pelli bike care cleaning products\, The Path Cyclery bike support\, Squirrell’s Nut Butter Anti-Chafing ointment\, and Big Treat Health treats. \nRace Distances:\n21.25 miles – 17.26m + 1 lap of the OTH short course \nCourse Information: \nTrail Description: fire roads & single track\nElevation gain: 2655ft\nPre-riding the course is not allowed unless it occurs during the partial lap practice on race day\, on wilderness access days or docent-led activities.  Unauthorized access or Pre-riding the course will jeopardize our ability to offer these events. \nBe sure to check out their website for more information!
URL:https://womensmtbnetwork.com/event/oc-mtb-limestone-xc-race/
LOCATION:Limestone Canyon Wilderness Park\, Silverado\, California\, United States
CATEGORIES:Special Events
END:VEVENT
BEGIN:VEVENT
DTSTART;VALUE=DATE:20240503
DTEND;VALUE=DATE:20240504
DTSTAMP:20260423T130521
CREATED:20240216T151456Z
LAST-MODIFIED:20240216T151456Z
UID:13759-1714694400-1714780799@womensmtbnetwork.com
SUMMARY:International Women's Mtn Biking Industry Day
DESCRIPTION:
URL:https://womensmtbnetwork.com/event/international-womens-mtn-biking-industry-day/
LOCATION:Skypark Bike Park\, 28950 CA-18\, Skyforest\, CA\, 92385\, United States
CATEGORIES:Special Events
END:VEVENT
BEGIN:VEVENT
DTSTART;VALUE=DATE:20240426
DTEND;VALUE=DATE:20240429
DTSTAMP:20260423T130521
CREATED:20240113T160822Z
LAST-MODIFIED:20240113T160822Z
UID:13180-1714089600-1714348799@womensmtbnetwork.com
SUMMARY:Women's Bike Retreat
DESCRIPTION:🌵Say Yes to Desert Rose’s exclusive one-of-a-kind desert mountain bike retreat or local spring series and jump start your riding season. You’ll join our community of supportive riders\, soak in the desert sun and learn how to conquer trail features together. \n🌟Embrace possibility\, expand your riding skills and unleash your potential on our desert trails this spring. \n🌈Tag your riding squad and let’s kick off this year together! \n🚵‍♀️ Women’s Mountain Bike Retreat – April 26-28\n\n🔗REGISTER USING LINK
URL:https://womensmtbnetwork.com/event/womens-bike-retreat/
LOCATION:Grand Junction\, CO\, Grand Junction\, CO\, 81501\, United States
CATEGORIES:Special Events
END:VEVENT
BEGIN:VEVENT
DTSTART;TZID=America/Los_Angeles:20240209T080000
DTEND;TZID=America/Los_Angeles:20240209T160000
DTSTAMP:20260423T130521
CREATED:20240113T155300Z
LAST-MODIFIED:20240113T155300Z
UID:13172-1707465600-1707494400@womensmtbnetwork.com
SUMMARY:Women's Weekend at Rays!
DESCRIPTION:Friday\, February 9th\, the park will be CLOSED to the public from 8:00am-4:00pm for this private event. The park will only be open to lady riders and spectators. This is a free event for all ladies\, be sure to RSVP on raysmtb.com before February 2nd. If you are interested in coaching\, classes are $50 to sign up. Visit www.raysmtb.com to pre-register for the event and see all the information on the different classes. Classes are small so be sure to sign up as soon as possible!
URL:https://womensmtbnetwork.com/event/womens-weekend-at-rays/
CATEGORIES:Special Events
END:VEVENT
END:VCALENDAR